BEGIN:VCALENDAR
PRODID:-//www.prestosports.com//PrestoSports//EN
VERSION:2.0
CALSCALE:GREGORIAN
BEGIN:VEVENT
DTSTAMP:20240411T081820Z
DTSTART:20210319T223000Z
DURATION:PT3H
SUMMARY:(Men's Basketball) Morningside (Iowa) vs. SAGU (Texas)
TRANSP:TRANSPARENT
CATEGORIES:Men's Basketball
LOCATION:Kansas City\, Mo.
DESCRIPTION:Men's Basketball: (Men's Basketball) Morningside (Iowa) vs. SAGU (Texas)\, Round of 16\, Final\, 85-90
UID:kvxpc0hqq5vphu3k@prestosports.com
END:VEVENT
END:VCALENDAR
