BEGIN:VCALENDAR
PRODID:-//www.prestosports.com//PrestoSports//EN
VERSION:2.0
CALSCALE:GREGORIAN
BEGIN:VEVENT
DTSTAMP:20240411T081801Z
DTSTART:20210319T223000Z
DURATION:PT3H
SUMMARY:(Men's Basketball) Morningside (Iowa) vs. SAGU (Texas)
TRANSP:TRANSPARENT
CATEGORIES:Men's Basketball
LOCATION:Kansas City\, Mo.
DESCRIPTION:Men's Basketball: (Men's Basketball) Morningside (Iowa) vs. SAGU (Texas)\, Round of 16\, Final\, 90-85
UID:kvxpc0hqq5vphu3k@prestosports.com
END:VEVENT
BEGIN:VEVENT
DTSTAMP:20240411T081801Z
DTSTART:20210320T230000Z
DURATION:PT3H
SUMMARY:(Men's Basketball) Carroll (Mont.) vs. SAGU (Texas)
TRANSP:TRANSPARENT
CATEGORIES:Men's Basketball
LOCATION:Kansas City\, MO
DESCRIPTION:Men's Basketball: (Men's Basketball) Carroll (Mont.) vs. SAGU (Texas)\, Quarterfinals\, Final\, 73-65
UID:bmgtvpz8f0yn1k88@prestosports.com
END:VEVENT
BEGIN:VEVENT
DTSTAMP:20240411T081801Z
DTSTART:20210323T010000Z
DURATION:PT3H
SUMMARY:(Men's Basketball) SAGU (Texas) vs. Lewis-Clark State (Idaho)
TRANSP:TRANSPARENT
CATEGORIES:Men's Basketball
LOCATION:Kansas City\, MO
DESCRIPTION:Men's Basketball: (Men's Basketball) SAGU (Texas) vs. Lewis-Clark State (Idaho)\, Semifinals\, Final\, 56-83
UID:b1xb4m6pl8qvvi2g@prestosports.com
END:VEVENT
END:VCALENDAR
