BEGIN:VCALENDAR
PRODID:-//www.prestosports.com//PrestoSports//EN
VERSION:2.0
CALSCALE:GREGORIAN
BEGIN:VEVENT
DTSTAMP:20240411T081805Z
DTSTART:20210319T001500Z
DURATION:PT3H
SUMMARY:(Men's Basketball) Bethel (Ind.) vs. Indiana Wesleyan
TRANSP:TRANSPARENT
CATEGORIES:Men's Basketball
LOCATION:Kansas City\, Mo.
DESCRIPTION:Men's Basketball: (Men's Basketball) Bethel (Ind.) vs. Indiana Wesleyan\, Round of 16\, Final\, 83-77
UID:c8e6bk1uxbfd77tn@prestosports.com
END:VEVENT
BEGIN:VEVENT
DTSTAMP:20240411T081805Z
DTSTART:20210320T190000Z
DURATION:PT3H
SUMMARY:(Men's Basketball) Saint Francis (Ind.) vs. Bethel (Ind.)
TRANSP:TRANSPARENT
CATEGORIES:Men's Basketball
LOCATION:Kansas City\, Mo.
DESCRIPTION:Men's Basketball: (Men's Basketball) Saint Francis (Ind.) vs. Bethel (Ind.)\, Quarterfinals\, Final\, 81-89
UID:p3r9xz24rpyiyfcl@prestosports.com
END:VEVENT
END:VCALENDAR
