BEGIN:VCALENDAR
PRODID:-//www.prestosports.com//PrestoSports//EN
VERSION:2.0
CALSCALE:GREGORIAN
BEGIN:VEVENT
DTSTAMP:20240411T081803Z
DTSTART:20210320T001500Z
DURATION:PT3H
SUMMARY:(Men's Basketball) Carroll (Mont.) vs. William Penn (Iowa)
TRANSP:TRANSPARENT
CATEGORIES:Men's Basketball
LOCATION:Kansas City\, Mo.
DESCRIPTION:Men's Basketball: (Men's Basketball) Carroll (Mont.) vs. William Penn (Iowa)\, Round of 16\, Final\, 62-85
UID:p77w4sz6jc95e4a0@prestosports.com
END:VEVENT
END:VCALENDAR
