BEGIN:VCALENDAR
PRODID:-//www.prestosports.com//PrestoSports//EN
VERSION:2.0
CALSCALE:GREGORIAN
BEGIN:VEVENT
DTSTAMP:20240411T081709Z
DTSTART:20210319T190000Z
DURATION:PT3H
SUMMARY:(Men's Basketball) Loyola (La.) vs. Marian (Ind.)
TRANSP:TRANSPARENT
CATEGORIES:Men's Basketball
LOCATION:Kansas City\, MO
DESCRIPTION:Men's Basketball: (Men's Basketball) Loyola (La.) vs. Marian (Ind.)\, Round of 16\, Final\, 69-62
UID:m50k3lntigj9ec1e@prestosports.com
END:VEVENT
BEGIN:VEVENT
DTSTAMP:20240411T081709Z
DTSTART:20210320T210000Z
DURATION:PT3H
SUMMARY:(Men's Basketball) Loyola (La.) vs. Lewis-Clark State (Idaho)
TRANSP:TRANSPARENT
CATEGORIES:Men's Basketball
LOCATION:Kansas City\, MO
DESCRIPTION:Men's Basketball: (Men's Basketball) Loyola (La.) vs. Lewis-Clark State (Idaho)\, Quarterfinals\, Final - OT\, 70-75
UID:4daftxc78m1hie26@prestosports.com
END:VEVENT
END:VCALENDAR
