BEGIN:VCALENDAR
PRODID:-//www.prestosports.com//PrestoSports//EN
VERSION:2.0
CALSCALE:GREGORIAN
BEGIN:VEVENT
DTSTAMP:20240411T081814Z
DTSTART:20210318T223000Z
DURATION:PT3H
SUMMARY:(Men's Basketball) Jamestown (N.D.) vs. Faulkner (Ala.)
TRANSP:TRANSPARENT
CATEGORIES:Men's Basketball
LOCATION:Kansas City\, Mo.
DESCRIPTION:Men's Basketball: (Men's Basketball) Jamestown (N.D.) vs. Faulkner (Ala.)\, Round of 16\, Final\, 83-88
UID:6yphahw6ir7ooid4@prestosports.com
END:VEVENT
END:VCALENDAR
