BEGIN:VCALENDAR
PRODID:-//www.prestosports.com//PrestoSports//EN
VERSION:2.0
CALSCALE:GREGORIAN
BEGIN:VEVENT
DTSTAMP:20240411T081759Z
DTSTART;VALUE=DATE:20210318
SUMMARY:(Men's Basketball) Saint Francis (Ind.) at Stillman (Ala.)
TRANSP:TRANSPARENT
CATEGORIES:Men's Basketball
DESCRIPTION:Men's Basketball: (Men's Basketball) Saint Francis (Ind.) at Stillman (Ala.)\, 2020-21 NAIA Men's Basketball National Championship\, Final\, 69-67
UID:x5kqv9kqcdai3qec@prestosports.com
END:VEVENT
BEGIN:VEVENT
DTSTAMP:20240411T081759Z
DTSTART:20210318T190000Z
DURATION:PT3H
SUMMARY:(Men's Basketball) Saint Francis (Ind.) vs. Stillman (Ala.)
TRANSP:TRANSPARENT
CATEGORIES:Men's Basketball
LOCATION:Kansas City\, Mo.
DESCRIPTION:Men's Basketball: (Men's Basketball) Saint Francis (Ind.) vs. Stillman (Ala.)\, Round of 16\, Final\, 69-67
UID:ryiq1h62ithetsg4@prestosports.com
END:VEVENT
BEGIN:VEVENT
DTSTAMP:20240411T081759Z
DTSTART:20210320T190000Z
DURATION:PT3H
SUMMARY:(Men's Basketball) Saint Francis (Ind.) vs. Bethel (Ind.)
TRANSP:TRANSPARENT
CATEGORIES:Men's Basketball
LOCATION:Kansas City\, Mo.
DESCRIPTION:Men's Basketball: (Men's Basketball) Saint Francis (Ind.) vs. Bethel (Ind.)\, Quarterfinals\, Final\, 89-81
UID:p3r9xz24rpyiyfcl@prestosports.com
END:VEVENT
BEGIN:VEVENT
DTSTAMP:20240411T081759Z
DTSTART:20210322T230000Z
DURATION:PT3H
SUMMARY:(Men's Basketball) Shawnee State (Ohio) vs. Saint Francis (Ind.)
TRANSP:TRANSPARENT
CATEGORIES:Men's Basketball
LOCATION:Kansas City\, MO
DESCRIPTION:Men's Basketball: (Men's Basketball) Shawnee State (Ohio) vs. Saint Francis (Ind.)\, Semifinals\, Final\, 77-82
UID:s2x496ok6ref6jet@prestosports.com
END:VEVENT
END:VCALENDAR
