BEGIN:VCALENDAR
PRODID:-//www.prestosports.com//PrestoSports//EN
VERSION:2.0
CALSCALE:GREGORIAN
BEGIN:VEVENT
DTSTAMP:20240411T082343Z
DTSTART:20220318T200000Z
DURATION:PT3H
SUMMARY:(Men's Basketball) SAGU (Texas) vs. Thomas More (Ky.)
TRANSP:TRANSPARENT
CATEGORIES:Men's Basketball
LOCATION:Municipal Auditorium\, Kansas City\, MO
DESCRIPTION:Men's Basketball: (Men's Basketball) SAGU (Texas) vs. Thomas More (Ky.)\, NAIA Men's Basketball National Championship Final Site\, Final\, 74-44
UID:8nph87y6zu1mjief@prestosports.com
END:VEVENT
BEGIN:VEVENT
DTSTAMP:20240411T082343Z
DTSTART:20220319T220000Z
DURATION:PT3H
SUMMARY:(Men's Basketball) Thomas More (Ky.) vs. Oklahoma Wesleyan
TRANSP:TRANSPARENT
CATEGORIES:Men's Basketball
LOCATION:Municipal Auditorium\, Kansas City\, MO
DESCRIPTION:Men's Basketball: (Men's Basketball) Thomas More (Ky.) vs. Oklahoma Wesleyan\, NAIA Men's Basketball National Championship Final Site\, Final\, 59-56
UID:vd7jfbg2eon4m091@prestosports.com
END:VEVENT
BEGIN:VEVENT
DTSTAMP:20240411T082343Z
DTSTART:20220322T000000Z
DURATION:PT3H
SUMMARY:(Men's Basketball) Talladega vs. Thomas More (Ky.)
TRANSP:TRANSPARENT
CATEGORIES:Men's Basketball
LOCATION:Municipal Auditorium\, Kansas City\, MO
DESCRIPTION:Men's Basketball: (Men's Basketball) Talladega vs. Thomas More (Ky.)\, NAIA Men's Basketball National Championship Final Site\, Final - OT\, 77-78
UID:bkn553fon8974fip@prestosports.com
END:VEVENT
END:VCALENDAR
