BEGIN:VCALENDAR
PRODID:-//www.prestosports.com//PrestoSports//EN
VERSION:2.0
CALSCALE:GREGORIAN
BEGIN:VEVENT
DTSTAMP:20240411T082230Z
DTSTART:20220317T200000Z
DURATION:PT3H
SUMMARY:(Men's Basketball) Faulkner (Ala.) vs. Loyola (La.)
TRANSP:TRANSPARENT
CATEGORIES:Men's Basketball
LOCATION:Municipal Auditorium\, Kansas City\, MO
DESCRIPTION:Men's Basketball: (Men's Basketball) Faulkner (Ala.) vs. Loyola (La.)\, NAIA Men's Basketball National Championship Final Site\, Final\, 67-85
UID:2d07ol33oitge68x@prestosports.com
END:VEVENT
END:VCALENDAR
