BEGIN:VCALENDAR
PRODID:-//www.prestosports.com//PrestoSports//EN
VERSION:2.0
CALSCALE:GREGORIAN
BEGIN:VEVENT
DTSTAMP:20240411T082121Z
DTSTART:20220318T220500Z
DURATION:PT3H
SUMMARY:(Men's Basketball) Jamestown (N.D.) vs. Talladega
TRANSP:TRANSPARENT
CATEGORIES:Men's Basketball
LOCATION:Municipal Aud.\, Kansas City\, MO
DESCRIPTION:Men's Basketball: (Men's Basketball) Jamestown (N.D.) vs. Talladega\, NAIA Men's Basketball National Championship Final Site\, Final\, 56-67
UID:2sguztxayekdwfsr@prestosports.com
END:VEVENT
END:VCALENDAR
