BEGIN:VCALENDAR
PRODID:-//www.prestosports.com//PrestoSports//EN
VERSION:2.0
CALSCALE:GREGORIAN
BEGIN:VEVENT
DTSTAMP:20240411T082717Z
DTSTART:20220318T000000Z
DURATION:PT3H
SUMMARY:(Men's Basketball) William Jessup vs. Indiana Wesleyan
TRANSP:TRANSPARENT
CATEGORIES:Men's Basketball
LOCATION:Municipal Auditorium\, Kansas City\, MO
DESCRIPTION:Men's Basketball: (Men's Basketball) William Jessup vs. Indiana Wesleyan\, NAIA Men's Basketball National Championship Final Site\, Final\, 84-88
UID:6glxdrimlo5r0tsp@prestosports.com
END:VEVENT
END:VCALENDAR
