BEGIN:VCALENDAR
PRODID:-//www.prestosports.com//PrestoSports//EN
VERSION:2.0
CALSCALE:GREGORIAN
BEGIN:VEVENT
DTSTAMP:20240411T082715Z
DTSTART:20220317T220000Z
DURATION:PT3H
SUMMARY:(Men's Basketball) Bethel (Kan.) vs. Arizona Christian
TRANSP:TRANSPARENT
CATEGORIES:Men's Basketball
LOCATION:Municipal Auditorium\, Kansas City\, MO
DESCRIPTION:Men's Basketball: (Men's Basketball) Bethel (Kan.) vs. Arizona Christian\, NAIA Men's Basketball National Championship Final Site\, Final\, 82-66
UID:rrxrzyqbz2ftblcq@prestosports.com
END:VEVENT
BEGIN:VEVENT
DTSTAMP:20240411T082715Z
DTSTART:20220319T180000Z
DURATION:PT3H
SUMMARY:(Men's Basketball) William Jessup vs. Arizona Christian
TRANSP:TRANSPARENT
CATEGORIES:Men's Basketball
LOCATION:Municipal Aud.\, Kansas City\, MO
DESCRIPTION:Men's Basketball: (Men's Basketball) William Jessup vs. Arizona Christian\, NAIA Men's Basketball National Championship Final Site\, Final\, 90-79
UID:io4besocjfou4mzq@prestosports.com
END:VEVENT
BEGIN:VEVENT
DTSTAMP:20240411T082715Z
DTSTART:20220321T220000Z
DURATION:PT3H
SUMMARY:(Men's Basketball) Arizona Christian vs. Loyola (La.)
TRANSP:TRANSPARENT
CATEGORIES:Men's Basketball
LOCATION:Municipal Auditorium\, Kansas City\, MO
DESCRIPTION:Men's Basketball: (Men's Basketball) Arizona Christian vs. Loyola (La.)\, NAIA Men's Basketball National Championship Final Site\, Final\, 70-82
UID:51hdkbjehlovacm5@prestosports.com
END:VEVENT
END:VCALENDAR
