BEGIN:VCALENDAR
PRODID:-//www.prestosports.com//PrestoSports//EN
VERSION:2.0
CALSCALE:GREGORIAN
BEGIN:VEVENT
DTSTAMP:20240411T082027Z
DTSTART:20220317T180000Z
DURATION:PT3H
SUMMARY:(Men's Basketball) Grace (Ind.) vs. College of Idaho
TRANSP:TRANSPARENT
CATEGORIES:Men's Basketball
LOCATION:Kansas City\, Mo.
DESCRIPTION:Men's Basketball: (Men's Basketball) Grace (Ind.) vs. College of Idaho\, NAIA Men's Basketball National Championship Final Site\, Final\, 66-71
UID:gi6bnrrofv4d9zey@prestosports.com
END:VEVENT
END:VCALENDAR
