BEGIN:VCALENDAR
PRODID:-//www.prestosports.com//PrestoSports//EN
VERSION:2.0
CALSCALE:GREGORIAN
BEGIN:VEVENT
DTSTAMP:20240411T074712Z
DTSTART;VALUE=DATE:20240321
SUMMARY:(Men's Basketball) TBD vs. TBD
TRANSP:TRANSPARENT
CATEGORIES:Men's Basketball
LOCATION:Kansas City\, Mo.
DESCRIPTION:Men's Basketball: (Men's Basketball) TBD vs. TBD\, 2024 NAIA Men's Basketball National Championship Final Site
UID:null@prestosports.com
END:VEVENT
BEGIN:VEVENT
DTSTAMP:20240411T074712Z
DTSTART;VALUE=DATE:20240321
SUMMARY:(Men's Basketball) TBD vs. TBD
TRANSP:TRANSPARENT
CATEGORIES:Men's Basketball
LOCATION:Kansas City\, Mo.
DESCRIPTION:Men's Basketball: (Men's Basketball) TBD vs. TBD\, 2024 NAIA Men's Basketball National Championship Final Site
UID:null@prestosports.com
END:VEVENT
BEGIN:VEVENT
DTSTAMP:20240411T074712Z
DTSTART;VALUE=DATE:20240321
SUMMARY:(Men's Basketball) TBD vs. TBD
TRANSP:TRANSPARENT
CATEGORIES:Men's Basketball
LOCATION:Kansas City\, Mo.
DESCRIPTION:Men's Basketball: (Men's Basketball) TBD vs. TBD\, 2024 NAIA Men's Basketball National Championship Final Site
UID:null@prestosports.com
END:VEVENT
BEGIN:VEVENT
DTSTAMP:20240411T074712Z
DTSTART;VALUE=DATE:20240321
SUMMARY:(Men's Basketball) TBD vs. TBD
TRANSP:TRANSPARENT
CATEGORIES:Men's Basketball
LOCATION:Kansas City\, Mo.
DESCRIPTION:Men's Basketball: (Men's Basketball) TBD vs. TBD\, 2024 NAIA Men's Basketball National Championship Final Site
UID:null@prestosports.com
END:VEVENT
BEGIN:VEVENT
DTSTAMP:20240411T074712Z
DTSTART;VALUE=DATE:20240322
SUMMARY:(Men's Basketball) TBD vs. TBD
TRANSP:TRANSPARENT
CATEGORIES:Men's Basketball
LOCATION:Kansas City\, Mo.
DESCRIPTION:Men's Basketball: (Men's Basketball) TBD vs. TBD\, 2024 NAIA Men's Basketball National Championship Final Site
UID:null@prestosports.com
END:VEVENT
BEGIN:VEVENT
DTSTAMP:20240411T074712Z
DTSTART;VALUE=DATE:20240322
SUMMARY:(Men's Basketball) TBD vs. TBD
TRANSP:TRANSPARENT
CATEGORIES:Men's Basketball
LOCATION:Kansas City\, Mo.
DESCRIPTION:Men's Basketball: (Men's Basketball) TBD vs. TBD\, 2024 NAIA Men's Basketball National Championship Final Site
UID:null@prestosports.com
END:VEVENT
BEGIN:VEVENT
DTSTAMP:20240411T074712Z
DTSTART;VALUE=DATE:20240322
SUMMARY:(Men's Basketball) TBD vs. TBD
TRANSP:TRANSPARENT
CATEGORIES:Men's Basketball
LOCATION:Kansas City\, Mo.
DESCRIPTION:Men's Basketball: (Men's Basketball) TBD vs. TBD\, 2024 NAIA Men's Basketball National Championship Final Site
UID:null@prestosports.com
END:VEVENT
BEGIN:VEVENT
DTSTAMP:20240411T074712Z
DTSTART;VALUE=DATE:20240322
SUMMARY:(Men's Basketball) TBD vs. TBD
TRANSP:TRANSPARENT
CATEGORIES:Men's Basketball
LOCATION:Kansas City\, Mo.
DESCRIPTION:Men's Basketball: (Men's Basketball) TBD vs. TBD\, 2024 NAIA Men's Basketball National Championship Final Site
UID:null@prestosports.com
END:VEVENT
BEGIN:VEVENT
DTSTAMP:20240411T074712Z
DTSTART;VALUE=DATE:20240323
SUMMARY:(Men's Basketball) TBD vs. TBD
TRANSP:TRANSPARENT
CATEGORIES:Men's Basketball
LOCATION:Kansas City\, Mo.
DESCRIPTION:Men's Basketball: (Men's Basketball) TBD vs. TBD\, 2024 NAIA Men's Basketball National Championship Final Site
UID:null@prestosports.com
END:VEVENT
BEGIN:VEVENT
DTSTAMP:20240411T074712Z
DTSTART;VALUE=DATE:20240323
SUMMARY:(Men's Basketball) TBD vs. TBD
TRANSP:TRANSPARENT
CATEGORIES:Men's Basketball
LOCATION:Kansas City\, Mo.
DESCRIPTION:Men's Basketball: (Men's Basketball) TBD vs. TBD\, 2024 NAIA Men's Basketball National Championship Final Site
UID:null@prestosports.com
END:VEVENT
BEGIN:VEVENT
DTSTAMP:20240411T074712Z
DTSTART;VALUE=DATE:20240323
SUMMARY:(Men's Basketball) TBD vs. TBD
TRANSP:TRANSPARENT
CATEGORIES:Men's Basketball
LOCATION:Kansas City\, Mo.
DESCRIPTION:Men's Basketball: (Men's Basketball) TBD vs. TBD\, 2024 NAIA Men's Basketball National Championship Final Site
UID:null@prestosports.com
END:VEVENT
BEGIN:VEVENT
DTSTAMP:20240411T074712Z
DTSTART;VALUE=DATE:20240323
SUMMARY:(Men's Basketball) TBD vs. TBD
TRANSP:TRANSPARENT
CATEGORIES:Men's Basketball
LOCATION:Kansas City\, Mo.
DESCRIPTION:Men's Basketball: (Men's Basketball) TBD vs. TBD\, 2024 NAIA Men's Basketball National Championship Final Site
UID:null@prestosports.com
END:VEVENT
BEGIN:VEVENT
DTSTAMP:20240411T074712Z
DTSTART;VALUE=DATE:20240325
SUMMARY:(Men's Basketball) TBD vs. TBD
TRANSP:TRANSPARENT
CATEGORIES:Men's Basketball
LOCATION:Kansas City\, Mo.
DESCRIPTION:Men's Basketball: (Men's Basketball) TBD vs. TBD\, 2024 NAIA Men's Basketball National Championship Final Site
UID:null@prestosports.com
END:VEVENT
BEGIN:VEVENT
DTSTAMP:20240411T074712Z
DTSTART;VALUE=DATE:20240325
SUMMARY:(Men's Basketball) TBD vs. TBD
TRANSP:TRANSPARENT
CATEGORIES:Men's Basketball
LOCATION:Kansas City\, Mo.
DESCRIPTION:Men's Basketball: (Men's Basketball) TBD vs. TBD\, 2024 NAIA Men's Basketball National Championship Final Site
UID:null@prestosports.com
END:VEVENT
BEGIN:VEVENT
DTSTAMP:20240411T074712Z
DTSTART;VALUE=DATE:20240326
SUMMARY:(Men's Basketball) TBD vs. TBD
TRANSP:TRANSPARENT
CATEGORIES:Men's Basketball
LOCATION:Kansas City\, Mo.
DESCRIPTION:Men's Basketball: (Men's Basketball) TBD vs. TBD\, 2024 NAIA Men's Basketball National Championship Final Site
UID:null@prestosports.com
END:VEVENT
END:VCALENDAR
