BEGIN:VCALENDAR
PRODID:-//www.prestosports.com//PrestoSports//EN
VERSION:2.0
CALSCALE:GREGORIAN
BEGIN:VEVENT
DTSTAMP:20240411T085708Z
DTSTART:20200312T224500Z
DURATION:PT3H
SUMMARY:(Men's Basketball) IU East (Ind.) vs. Southeastern (Fla.)
TRANSP:TRANSPARENT
CATEGORIES:Men's Basketball
LOCATION:Sioux Falls\, S.D.
DESCRIPTION:Men's Basketball: (Men's Basketball) IU East (Ind.) vs. Southeastern (Fla.)
UID:146hbpjo6t8cfxim@prestosports.com
END:VEVENT
END:VCALENDAR
