BEGIN:VCALENDAR
PRODID:-//www.prestosports.com//PrestoSports//EN
VERSION:2.0
CALSCALE:GREGORIAN
BEGIN:VEVENT
DTSTAMP:20240411T085720Z
DTSTART:20200312T024500Z
DURATION:PT3H
SUMMARY:(Men's Basketball) Washington Adventist (Md.) vs. Antelope Valley (Calif.)
TRANSP:TRANSPARENT
CATEGORIES:Men's Basketball
LOCATION:Sioux Falls\, S.D.
DESCRIPTION:Men's Basketball: (Men's Basketball) Washington Adventist (Md.) vs. Antelope Valley (Calif.)\, Final\, 85-68
UID:7cqxe5t6ybjmgw5t@prestosports.com
END:VEVENT
BEGIN:VEVENT
DTSTAMP:20240411T085720Z
DTSTART:20200313T184500Z
DURATION:PT3H
SUMMARY:(Men's Basketball) Marian (Ind.) vs. Antelope Valley (Calif.)
TRANSP:TRANSPARENT
CATEGORIES:Men's Basketball
LOCATION:Sioux Falls\, S.D.
DESCRIPTION:Men's Basketball: (Men's Basketball) Marian (Ind.) vs. Antelope Valley (Calif.)\, Second Round 
UID:dw6k5spsh0iqu3hy@prestosports.com
END:VEVENT
END:VCALENDAR
