BEGIN:VCALENDAR
PRODID:-//www.prestosports.com//PrestoSports//EN
VERSION:2.0
CALSCALE:GREGORIAN
BEGIN:VEVENT
DTSTAMP:20240411T085800Z
DTSTART:20200313T021500Z
DURATION:PT3H
SUMMARY:(Men's Basketball) Mayville State (N.D.) vs. Oregon Tech
TRANSP:TRANSPARENT
CATEGORIES:Men's Basketball
LOCATION:Sioux Falls\, S.D.
DESCRIPTION:Men's Basketball: (Men's Basketball) Mayville State (N.D.) vs. Oregon Tech
UID:638807vj8rndcw21@prestosports.com
END:VEVENT
END:VCALENDAR
