BEGIN:VCALENDAR
PRODID:-//www.prestosports.com//PrestoSports//EN
VERSION:2.0
CALSCALE:GREGORIAN
BEGIN:VEVENT
DTSTAMP:20240411T085722Z
DTSTART:20200311T224500Z
DURATION:PT3H
SUMMARY:(Men's Basketball) IU Kokomo (Ind.) vs. Madonna (Mich.)
TRANSP:TRANSPARENT
CATEGORIES:Men's Basketball
LOCATION:Sioux Falls\, S.D.
DESCRIPTION:Men's Basketball: (Men's Basketball) IU Kokomo (Ind.) vs. Madonna (Mich.)\, Final\, 70-68
UID:2o761hk8rrka1j1n@prestosports.com
END:VEVENT
BEGIN:VEVENT
DTSTAMP:20240411T085722Z
DTSTART:20200313T184500Z
DURATION:PT3H
SUMMARY:(Men's Basketball) IU Kokomo (Ind.) vs. College of Idaho
TRANSP:TRANSPARENT
CATEGORIES:Men's Basketball
LOCATION:Sioux Falls\, S.D.
DESCRIPTION:Men's Basketball: (Men's Basketball) IU Kokomo (Ind.) vs. College of Idaho\, Second Round 
UID:ho4roej6l195pbf9@prestosports.com
END:VEVENT
END:VCALENDAR
