BEGIN:VCALENDAR
PRODID:-//www.prestosports.com//PrestoSports//EN
VERSION:2.0
CALSCALE:GREGORIAN
BEGIN:VEVENT
DTSTAMP:20240411T085723Z
DTSTART:20200311T184500Z
DURATION:PT3H
SUMMARY:(Men's Basketball) College of the Ozarks (Mo.) vs. Morningside (Iowa)
TRANSP:TRANSPARENT
CATEGORIES:Men's Basketball
LOCATION:Sanford Pentagon Sioux Falls\, SD
DESCRIPTION:Men's Basketball: (Men's Basketball) College of the Ozarks (Mo.) vs. Morningside (Iowa)\, Final\, 58-99
UID:dn36bh30rn1v850l@prestosports.com
END:VEVENT
END:VCALENDAR
