BEGIN:VCALENDAR
PRODID:-//www.prestosports.com//PrestoSports//EN
VERSION:2.0
CALSCALE:GREGORIAN
BEGIN:VEVENT
DTSTAMP:20240411T085730Z
DTSTART:20200312T210000Z
DURATION:PT3H
SUMMARY:(Men's Basketball) Crowley's Ridge (Ark) vs. Indiana Wesleyan
TRANSP:TRANSPARENT
CATEGORIES:Men's Basketball
LOCATION:Sioux Falls\, S.D.
DESCRIPTION:Men's Basketball: (Men's Basketball) Crowley's Ridge (Ark) vs. Indiana Wesleyan\, Cancelled
UID:0yxhqsrm8bixhptn@prestosports.com
END:VEVENT
END:VCALENDAR
