BEGIN:VCALENDAR
PRODID:-//www.prestosports.com//PrestoSports//EN
VERSION:2.0
CALSCALE:GREGORIAN
BEGIN:VEVENT
DTSTAMP:20240411T085700Z
DTSTART;VALUE=DATE:20200312
SUMMARY:(Men's Basketball) Concordia vs. Ottawa (Kan.)
TRANSP:TRANSPARENT
CATEGORIES:Men's Basketball
DESCRIPTION:Men's Basketball: (Men's Basketball) Concordia vs. Ottawa (Kan.)\, NAIA National Tournament\, Final\, 87-84
UID:8gxxya6semwz6ht0@prestosports.com
END:VEVENT
BEGIN:VEVENT
DTSTAMP:20240411T085700Z
DTSTART:20200312T151500Z
DURATION:PT3H
SUMMARY:(Men's Basketball) Concordia (Neb.) vs. Ottawa (Kan.)
TRANSP:TRANSPARENT
CATEGORIES:Men's Basketball
LOCATION:Sioux Falls\, S.D.
DESCRIPTION:Men's Basketball: (Men's Basketball) Concordia (Neb.) vs. Ottawa (Kan.)\, Final\, 87-84
UID:zi6d3yuu2c1zezsk@prestosports.com
END:VEVENT
BEGIN:VEVENT
DTSTAMP:20240411T085700Z
DTSTART;VALUE=DATE:20200313
SUMMARY:(Men's Basketball) Saint Francis (Ind.) vs. Ottawa (Kan.)
TRANSP:TRANSPARENT
CATEGORIES:Men's Basketball
DESCRIPTION:Men's Basketball: (Men's Basketball) Saint Francis (Ind.) vs. Ottawa (Kan.)\, Second Round
UID:qwmpb0qlemwjey7j@prestosports.com
END:VEVENT
END:VCALENDAR
