BEGIN:VCALENDAR
PRODID:-//www.prestosports.com//PrestoSports//EN
VERSION:2.0
CALSCALE:GREGORIAN
BEGIN:VEVENT
DTSTAMP:20240411T085706Z
DTSTART:20200311T151500Z
DURATION:PT3H
SUMMARY:(Men's Basketball) Montreat (N.C.) vs. Southern Oregon
TRANSP:TRANSPARENT
CATEGORIES:Men's Basketball
LOCATION:Sioux Falls\, S.D.
DESCRIPTION:Men's Basketball: (Men's Basketball) Montreat (N.C.) vs. Southern Oregon\, Final\, 85-67
UID:3cxooo6gyj7buyyf@prestosports.com
END:VEVENT
BEGIN:VEVENT
DTSTAMP:20240411T085706Z
DTSTART:20200313T133000Z
DURATION:PT3H
SUMMARY:(Men's Basketball) Southern Oregon vs. Holy Cross (Ind.)
TRANSP:TRANSPARENT
CATEGORIES:Men's Basketball
LOCATION:Sioux Falls\, S.D. 
DESCRIPTION:Men's Basketball: (Men's Basketball) Southern Oregon vs. Holy Cross (Ind.)\, Second Round 
UID:xl4386ooc2xnta7q@prestosports.com
END:VEVENT
END:VCALENDAR
