BEGIN:VCALENDAR
PRODID:-//www.prestosports.com//PrestoSports//EN
VERSION:2.0
CALSCALE:GREGORIAN
BEGIN:VEVENT
DTSTAMP:20240411T085726Z
DTSTART:20200311T170000Z
DURATION:PT3H
SUMMARY:(Men's Basketball) Spring Arbor (Mich.) vs. Oklahoma Wesleyan
TRANSP:TRANSPARENT
CATEGORIES:Men's Basketball
LOCATION:Sioux Falls\, S.D.
DESCRIPTION:Men's Basketball: (Men's Basketball) Spring Arbor (Mich.) vs. Oklahoma Wesleyan\, Final\, 70-68
UID:52izjo548hlu84t2@prestosports.com
END:VEVENT
BEGIN:VEVENT
DTSTAMP:20240411T085726Z
DTSTART:20200313T151500Z
DURATION:PT3H
SUMMARY:(Men's Basketball) Oklahoma Wesleyan at Morningside (Iowa)
TRANSP:TRANSPARENT
CATEGORIES:Men's Basketball
DESCRIPTION:Men's Basketball: (Men's Basketball) Oklahoma Wesleyan at Morningside (Iowa)\, 2020 NAIA Championships
UID:2coqouoyzpdjt1e2@prestosports.com
END:VEVENT
END:VCALENDAR
