BEGIN:VCALENDAR
PRODID:-//www.prestosports.com//PrestoSports//EN
VERSION:2.0
CALSCALE:GREGORIAN
BEGIN:VEVENT
DTSTAMP:20240411T085711Z
DTSTART:20200312T170000Z
DURATION:PT3H
SUMMARY:(Men's Basketball) Lincoln (Ill.) vs. Olivet Nazarene (Ill.)
TRANSP:TRANSPARENT
CATEGORIES:Men's Basketball
LOCATION:Sioux Falls\, S.D.
DESCRIPTION:Men's Basketball: (Men's Basketball) Lincoln (Ill.) vs. Olivet Nazarene (Ill.)\, Cancelled
UID:1xb2vs5n2eggdpw9@prestosports.com
END:VEVENT
END:VCALENDAR
