BEGIN:VCALENDAR
PRODID:-//www.prestosports.com//PrestoSports//EN
VERSION:2.0
CALSCALE:GREGORIAN
BEGIN:VEVENT
DTSTAMP:20240411T085658Z
DTSTART:20200312T184500Z
DURATION:PT3H
SUMMARY:(Men's Basketball) WVU Tech (W.Va.) vs. Grace (Ind.)
TRANSP:TRANSPARENT
CATEGORIES:Men's Basketball
LOCATION:Sioux Falls\, S.D.
DESCRIPTION:Men's Basketball: (Men's Basketball) WVU Tech (W.Va.) vs. Grace (Ind.)
UID:fmql3po1orc33elx@prestosports.com
END:VEVENT
END:VCALENDAR
