BEGIN:VCALENDAR
PRODID:-//www.prestosports.com//PrestoSports//EN
VERSION:2.0
CALSCALE:GREGORIAN
BEGIN:VEVENT
DTSTAMP:20240411T085709Z
DTSTART:20200312T133000Z
DURATION:PT3H
SUMMARY:(Men's Basketball) Saint Francis (Ind.) vs. Union (Ky.)
TRANSP:TRANSPARENT
CATEGORIES:Men's Basketball
LOCATION:Sioux Falls\, S.D.
DESCRIPTION:Men's Basketball: (Men's Basketball) Saint Francis (Ind.) vs. Union (Ky.)\, Final\, 76-82
UID:gbq9fg585u8wbd2e@prestosports.com
END:VEVENT
END:VCALENDAR
