BEGIN:VCALENDAR
PRODID:-//www.prestosports.com//PrestoSports//EN
VERSION:2.0
CALSCALE:GREGORIAN
BEGIN:VEVENT
DTSTAMP:20240411T085714Z
DTSTART:20200313T003000Z
DURATION:PT3H
SUMMARY:(Men's Basketball) IU South Bend (Ind.) vs. Dakota Wesleyan (S.D.)
TRANSP:TRANSPARENT
CATEGORIES:Men's Basketball
LOCATION:Sioux Falls\, S.D.
DESCRIPTION:Men's Basketball: (Men's Basketball) IU South Bend (Ind.) vs. Dakota Wesleyan (S.D.)
UID:ypunq47s5fvkeh0z@prestosports.com
END:VEVENT
END:VCALENDAR
