BEGIN:VCALENDAR
PRODID:-//www.prestosports.com//PrestoSports//EN
VERSION:2.0
CALSCALE:GREGORIAN
BEGIN:VEVENT
DTSTAMP:20240411T071436Z
DTSTART;VALUE=DATE:20210422
SUMMARY:(Men's Volleyball) Park vs. Jamestown (N.D.)
TRANSP:TRANSPARENT
CATEGORIES:Men's Volleyball
LOCATION:Des Moines\, IA
DESCRIPTION:Men's Volleyball: (Men's Volleyball) Park vs. Jamestown (N.D.)\, NAIA National Championship - Pool Play\, Final\, 3-0
UID:qy8fo3mn2qsggrxc@prestosports.com
END:VEVENT
BEGIN:VEVENT
DTSTAMP:20240411T071436Z
DTSTART:20210424T003000Z
DURATION:PT3H
SUMMARY:(Men's Volleyball) Park vs. Grand View
TRANSP:TRANSPARENT
CATEGORIES:Men's Volleyball
LOCATION:Des Moines\, IA
DESCRIPTION:Men's Volleyball: (Men's Volleyball) Park vs. Grand View\, NAIA Semifinal \, Final\, 0-3
UID:h468pl22oqdppevk@prestosports.com
END:VEVENT
END:VCALENDAR
