BEGIN:VCALENDAR
PRODID:-//www.prestosports.com//PrestoSports//EN
VERSION:2.0
CALSCALE:GREGORIAN
BEGIN:VEVENT
DTSTAMP:20240411T071420Z
DTSTART;VALUE=DATE:20210422
SUMMARY:(Men's Volleyball) Lourdes vs. Benedictine Mesa
TRANSP:TRANSPARENT
CATEGORIES:Men's Volleyball
DESCRIPTION:Men's Volleyball: (Men's Volleyball) Lourdes vs. Benedictine Mesa\, NAIA National Championships\, Final\, 3-0
UID:mbxmjfw24b5b4rk7@prestosports.com
END:VEVENT
BEGIN:VEVENT
DTSTAMP:20240411T071420Z
DTSTART:20210423T210000Z
DURATION:PT3H
SUMMARY:(Men's Volleyball) Vanguard vs. Benedictine Mesa
TRANSP:TRANSPARENT
CATEGORIES:Men's Volleyball
LOCATION:Des Moines\, Iowa
DESCRIPTION:Men's Volleyball: (Men's Volleyball) Vanguard vs. Benedictine Mesa\, NAIA Semifinal (25-22\, 25-21\, 32-34\, 25-19)\, Final\, 3-1
UID:kfbmt5htx1r6ojkw@prestosports.com
END:VEVENT
BEGIN:VEVENT
DTSTAMP:20240411T071420Z
DTSTART:20210424T220000Z
DURATION:PT3H
SUMMARY:(Men's Volleyball) Benedictine Mesa at Grand View
TRANSP:TRANSPARENT
CATEGORIES:Men's Volleyball
DESCRIPTION:Men's Volleyball: (Men's Volleyball) Benedictine Mesa at Grand View\, NAIA Championship\, Final\, 0-3
UID:0y1xomwd7c64d0hg@prestosports.com
END:VEVENT
END:VCALENDAR
