BEGIN:VCALENDAR
PRODID:-//www.prestosports.com//PrestoSports//EN
VERSION:2.0
CALSCALE:GREGORIAN
BEGIN:VEVENT
DTSTAMP:20240411T071434Z
DTSTART;VALUE=DATE:20210422
SUMMARY:(Men's Volleyball) Missouri Valley vs. Grand View
TRANSP:TRANSPARENT
CATEGORIES:Men's Volleyball
DESCRIPTION:Men's Volleyball: (Men's Volleyball) Missouri Valley vs. Grand View\, NAIA Men's Volleyball National Championship\, Final\, 3-0
UID:4sxu2ev9154ykdhi@prestosports.com
END:VEVENT
BEGIN:VEVENT
DTSTAMP:20240411T071434Z
DTSTART:20210424T003000Z
DURATION:PT3H
SUMMARY:(Men's Volleyball) Park vs. Grand View
TRANSP:TRANSPARENT
CATEGORIES:Men's Volleyball
LOCATION:Des Moines\, IA
DESCRIPTION:Men's Volleyball: (Men's Volleyball) Park vs. Grand View\, NAIA Semifinal \, Final\, 3-0
UID:h468pl22oqdppevk@prestosports.com
END:VEVENT
BEGIN:VEVENT
DTSTAMP:20240411T071434Z
DTSTART:20210424T220000Z
DURATION:PT3H
SUMMARY:(Men's Volleyball) Benedictine Mesa vs. Grand View
TRANSP:TRANSPARENT
CATEGORIES:Men's Volleyball
DESCRIPTION:Men's Volleyball: (Men's Volleyball) Benedictine Mesa vs. Grand View\, NAIA Championship\, Final\, 3-0
UID:0y1xomwd7c64d0hg@prestosports.com
END:VEVENT
END:VCALENDAR
