BEGIN:VCALENDAR
PRODID:-//www.prestosports.com//PrestoSports//EN
VERSION:2.0
CALSCALE:GREGORIAN
BEGIN:VEVENT
DTSTAMP:20240411T071422Z
DTSTART;VALUE=DATE:20210422
SUMMARY:(Men's Volleyball) Missouri Valley at Grand View
TRANSP:TRANSPARENT
CATEGORIES:Men's Volleyball
DESCRIPTION:Men's Volleyball: (Men's Volleyball) Missouri Valley at Grand View\, NAIA Men's Volleyball National Championship\, Final\, 0-3
UID:4sxu2ev9154ykdhi@prestosports.com
END:VEVENT
END:VCALENDAR
