BEGIN:VCALENDAR
PRODID:-//www.prestosports.com//PrestoSports//EN
VERSION:2.0
CALSCALE:GREGORIAN
BEGIN:VEVENT
DTSTAMP:20240411T070744Z
DTSTART:20220416T003000Z
DURATION:PT3H
SUMMARY:(Men's Volleyball) Campbellsville vs. Grand View
TRANSP:TRANSPARENT
CATEGORIES:Men's Volleyball
LOCATION:MidAmerica RecPlex - West Des Moines\, IA
DESCRIPTION:Men's Volleyball: (Men's Volleyball) Campbellsville vs. Grand View\, NAIA Semifinal\, Final\, 3-1
UID:4ycgkgl96eilqa4f@prestosports.com
END:VEVENT
BEGIN:VEVENT
DTSTAMP:20240411T070744Z
DTSTART:20220416T220000Z
DURATION:PT3H
SUMMARY:(Men's Volleyball) Benedictine Mesa vs. Grand View
TRANSP:TRANSPARENT
CATEGORIES:Men's Volleyball
LOCATION:MidAmerica RecPlex - West Des Moines\, IA
DESCRIPTION:Men's Volleyball: (Men's Volleyball) Benedictine Mesa vs. Grand View\, Championship\, Final\, 3-1
UID:f0jweyerb6ort6x3@prestosports.com
END:VEVENT
END:VCALENDAR
