BEGIN:VCALENDAR
PRODID:-//www.prestosports.com//PrestoSports//EN
VERSION:2.0
CALSCALE:GREGORIAN
BEGIN:VEVENT
DTSTAMP:20240411T070612Z
DTSTART:20220412T150000Z
DURATION:PT3H
SUMMARY:(Men's Volleyball) Georgetown (Ky.) vs. Indiana Tech
TRANSP:TRANSPARENT
CATEGORIES:Men's Volleyball
LOCATION:West Des Moines\, Iowa
DESCRIPTION:Men's Volleyball: (Men's Volleyball) Georgetown (Ky.) vs. Indiana Tech\, NAIA Championship Pool Play | Pool C\, Final\, 3-2
UID:pb4kgeufo0r8isjq@prestosports.com
END:VEVENT
BEGIN:VEVENT
DTSTAMP:20240411T070612Z
DTSTART:20220412T180000Z
DURATION:PT3H
SUMMARY:(Men's Volleyball) Saint Xavier (Ill.) vs. OUAZ
TRANSP:TRANSPARENT
CATEGORIES:Men's Volleyball
LOCATION:West Des Moines\, Iowa
DESCRIPTION:Men's Volleyball: (Men's Volleyball) Saint Xavier (Ill.) vs. OUAZ\, NAIA Championship Pool Play | Pool B\, Final\, 0-3
UID:qiuwh41uxcavy19t@prestosports.com
END:VEVENT
BEGIN:VEVENT
DTSTAMP:20240411T070612Z
DTSTART:20220412T210000Z
DURATION:PT3H
SUMMARY:(Men's Volleyball) Campbellsville vs. Vanguard
TRANSP:TRANSPARENT
CATEGORIES:Men's Volleyball
LOCATION:West Des Moines\, Iow
DESCRIPTION:Men's Volleyball: (Men's Volleyball) Campbellsville vs. Vanguard\, NAIA Championship Pool Play | Pool D\, Final\, 3-1
UID:gu7wx12jbuv0ggis@prestosports.com
END:VEVENT
BEGIN:VEVENT
DTSTAMP:20240411T070612Z
DTSTART:20220413T000000Z
DURATION:PT3H
SUMMARY:(Men's Volleyball) Aquinas vs. Grand View
TRANSP:TRANSPARENT
CATEGORIES:Men's Volleyball
LOCATION:West Des Moines\, Iow
DESCRIPTION:Men's Volleyball: (Men's Volleyball) Aquinas vs. Grand View\, NAIA Championship Pool Play | Pool A\, Final\, 0-3
UID:xs96m6nas8rm027r@prestosports.com
END:VEVENT
BEGIN:VEVENT
DTSTAMP:20240411T070612Z
DTSTART:20220413T150000Z
DURATION:PT3H
SUMMARY:(Men's Volleyball) Georgetown (Ky.) vs. Benedictine Mesa
TRANSP:TRANSPARENT
CATEGORIES:Men's Volleyball
LOCATION:West Des Moines\, Iow
DESCRIPTION:Men's Volleyball: (Men's Volleyball) Georgetown (Ky.) vs. Benedictine Mesa\, NAIA Championship Pool Play | Pool C\, Final\, 0-3
UID:td22ym1que1q53fy@prestosports.com
END:VEVENT
BEGIN:VEVENT
DTSTAMP:20240411T070612Z
DTSTART:20220413T180000Z
DURATION:PT3H
SUMMARY:(Men's Volleyball) Saint Xavier (Ill.) vs. Park
TRANSP:TRANSPARENT
CATEGORIES:Men's Volleyball
LOCATION:West Des Moines\, Iow
DESCRIPTION:Men's Volleyball: (Men's Volleyball) Saint Xavier (Ill.) vs. Park\, NAIA Championship Pool Play | Pool B\, Final\, 0-3
UID:ucrrj33cvlw3k41k@prestosports.com
END:VEVENT
BEGIN:VEVENT
DTSTAMP:20240411T070612Z
DTSTART:20220413T210000Z
DURATION:PT3H
SUMMARY:(Men's Volleyball) Campbellsville vs. William Penn (Iowa)
TRANSP:TRANSPARENT
CATEGORIES:Men's Volleyball
LOCATION:West Des Moines\, Iow
DESCRIPTION:Men's Volleyball: (Men's Volleyball) Campbellsville vs. William Penn (Iowa)\, NAIA Championship Pool Play | Pool D\, Final\, 3-0
UID:dezbm9c8hqo9oupv@prestosports.com
END:VEVENT
BEGIN:VEVENT
DTSTAMP:20240411T070612Z
DTSTART:20220414T000000Z
DURATION:PT3H
SUMMARY:(Men's Volleyball) Aquinas vs. Jamestown (N.D.)
TRANSP:TRANSPARENT
CATEGORIES:Men's Volleyball
LOCATION:West Des Moines\, Iowa
DESCRIPTION:Men's Volleyball: (Men's Volleyball) Aquinas vs. Jamestown (N.D.)\, NAIA Championship Pool Play | Pool A\, Final\, 0-3
UID:hpb2ivfrotfnv7g6@prestosports.com
END:VEVENT
BEGIN:VEVENT
DTSTAMP:20240411T070612Z
DTSTART:20220414T150000Z
DURATION:PT3H
SUMMARY:(Men's Volleyball) Benedictine Mesa vs. Indiana Tech
TRANSP:TRANSPARENT
CATEGORIES:Men's Volleyball
LOCATION:West Des Moines\, Iow
DESCRIPTION:Men's Volleyball: (Men's Volleyball) Benedictine Mesa vs. Indiana Tech\, NAIA Championship Pool Play | Pool C\, Final\, 3-1
UID:nsbez2hlu33lbk1o@prestosports.com
END:VEVENT
BEGIN:VEVENT
DTSTAMP:20240411T070612Z
DTSTART:20220414T180000Z
DURATION:PT3H
SUMMARY:(Men's Volleyball) Park vs. OUAZ
TRANSP:TRANSPARENT
CATEGORIES:Men's Volleyball
LOCATION:West Des Moines\, Iow
DESCRIPTION:Men's Volleyball: (Men's Volleyball) Park vs. OUAZ\, NAIA Championship Pool Play | Pool B\, Final\, 3-2
UID:0f8v4up2ex2rxj8h@prestosports.com
END:VEVENT
BEGIN:VEVENT
DTSTAMP:20240411T070612Z
DTSTART:20220414T210000Z
DURATION:PT3H
SUMMARY:(Men's Volleyball) William Penn (Iowa) vs. Vanguard
TRANSP:TRANSPARENT
CATEGORIES:Men's Volleyball
LOCATION:West Des Moines\, Iowa
DESCRIPTION:Men's Volleyball: (Men's Volleyball) William Penn (Iowa) vs. Vanguard\, NAIA Championship Pool Play | Pool D\, Final\, 1-3
UID:lamnirg8h6jlyi8u@prestosports.com
END:VEVENT
BEGIN:VEVENT
DTSTAMP:20240411T070612Z
DTSTART:20220415T000000Z
DURATION:PT3H
SUMMARY:(Men's Volleyball) Jamestown (N.D.) vs. Grand View
TRANSP:TRANSPARENT
CATEGORIES:Men's Volleyball
LOCATION:West Des Moines\, Iow
DESCRIPTION:Men's Volleyball: (Men's Volleyball) Jamestown (N.D.) vs. Grand View\, NAIA Championship Pool Play | Pool A\, Final\, 0-3
UID:8gty8luuetmhsq29@prestosports.com
END:VEVENT
END:VCALENDAR
