BEGIN:VCALENDAR
PRODID:-//www.prestosports.com//PrestoSports//EN
VERSION:2.0
CALSCALE:GREGORIAN
BEGIN:VEVENT
DTSTAMP:20240411T071322Z
DTSTART:20230415T003000Z
DURATION:PT3H
SUMMARY:(Men's Volleyball) Park vs. Benedictine Mesa (AZ)
TRANSP:TRANSPARENT
CATEGORIES:Men's Volleyball
LOCATION:West Des Moines\, Iowa
DESCRIPTION:Men's Volleyball: (Men's Volleyball) Park vs. Benedictine Mesa (AZ)\, NAIA MVB Semifinal\, Final\, 3-0
UID:985wrvyv7e97kzvv@prestosports.com
END:VEVENT
BEGIN:VEVENT
DTSTAMP:20240411T071322Z
DTSTART:20230415T220000Z
DURATION:PT3H
SUMMARY:(Men's Volleyball) Vanguard vs. Benedictine Mesa (AZ)
TRANSP:TRANSPARENT
CATEGORIES:Men's Volleyball
LOCATION:West Des Moines\, Iow
DESCRIPTION:Men's Volleyball: (Men's Volleyball) Vanguard vs. Benedictine Mesa (AZ)\, NAIA MVB Championship\, Final\, 2-3
UID:vs8wzck8l9l8e050@prestosports.com
END:VEVENT
END:VCALENDAR
