BEGIN:VCALENDAR
PRODID:-//www.prestosports.com//PrestoSports//EN
VERSION:2.0
CALSCALE:GREGORIAN
BEGIN:VEVENT
DTSTAMP:20240411T070644Z
DTSTART:20230411T150000Z
DURATION:PT3H
SUMMARY:(Men's Volleyball) Indiana Tech vs. The Master's (Calif.)
TRANSP:TRANSPARENT
CATEGORIES:Men's Volleyball
LOCATION:West Des Moines\, Iow
DESCRIPTION:Men's Volleyball: (Men's Volleyball) Indiana Tech vs. The Master's (Calif.)\, NAIA MVB Championship Pool C\, Final\, 2-3
UID:lgyo14sdv9d4jo8s@prestosports.com
END:VEVENT
BEGIN:VEVENT
DTSTAMP:20240411T070644Z
DTSTART:20230411T180000Z
DURATION:PT3H
SUMMARY:(Men's Volleyball) Jamestown (N.D.) vs. Vanguard
TRANSP:TRANSPARENT
CATEGORIES:Men's Volleyball
LOCATION:West Des Moines\, Iow
DESCRIPTION:Men's Volleyball: (Men's Volleyball) Jamestown (N.D.) vs. Vanguard\, NAIA MVB Championship Pool B\, Final\, 0-3
UID:qnj54at9we88sp3w@prestosports.com
END:VEVENT
BEGIN:VEVENT
DTSTAMP:20240411T070644Z
DTSTART:20230411T210000Z
DURATION:PT3H
SUMMARY:(Men's Volleyball) Webber International (FL) vs. Park
TRANSP:TRANSPARENT
CATEGORIES:Men's Volleyball
LOCATION:West Des Moines\, Iowa
DESCRIPTION:Men's Volleyball: (Men's Volleyball) Webber International (FL) vs. Park\, NAIA MVB Championship Pool D\, Final\, 0-3
UID:scesgb9by0ii2grs@prestosports.com
END:VEVENT
BEGIN:VEVENT
DTSTAMP:20240411T070644Z
DTSTART:20230412T000000Z
DURATION:PT3H
SUMMARY:(Men's Volleyball) Saint Xavier (Ill.) vs. Benedictine Mesa (AZ)
TRANSP:TRANSPARENT
CATEGORIES:Men's Volleyball
LOCATION:West Des Moines\, Iow
DESCRIPTION:Men's Volleyball: (Men's Volleyball) Saint Xavier (Ill.) vs. Benedictine Mesa (AZ)\, NAIA MVB Championship Pool A\, Final\, 0-3
UID:ddgq9o8uvcgiltnb@prestosports.com
END:VEVENT
BEGIN:VEVENT
DTSTAMP:20240411T070644Z
DTSTART:20230412T150000Z
DURATION:PT3H
SUMMARY:(Men's Volleyball) Indiana Tech vs. Menlo (Calif.)
TRANSP:TRANSPARENT
CATEGORIES:Men's Volleyball
LOCATION:West Des Moines\, Iowa
DESCRIPTION:Men's Volleyball: (Men's Volleyball) Indiana Tech vs. Menlo (Calif.)\, NAIA MVB Championship Pool C\, Final\, 0-3
UID:nq91iinnmn99gp1d@prestosports.com
END:VEVENT
BEGIN:VEVENT
DTSTAMP:20240411T070644Z
DTSTART:20230412T180000Z
DURATION:PT3H
SUMMARY:(Men's Volleyball) Jamestown (N.D.) vs. Grand View
TRANSP:TRANSPARENT
CATEGORIES:Men's Volleyball
LOCATION:West Des Moines\, Iowa
DESCRIPTION:Men's Volleyball: (Men's Volleyball) Jamestown (N.D.) vs. Grand View\, NAIA MVB Championship Pool B\, Final\, 0-3
UID:ww8dhndeyajuviii@prestosports.com
END:VEVENT
BEGIN:VEVENT
DTSTAMP:20240411T070644Z
DTSTART:20230412T210000Z
DURATION:PT3H
SUMMARY:(Men's Volleyball) Webber International (FL) vs. OUAZ
TRANSP:TRANSPARENT
CATEGORIES:Men's Volleyball
LOCATION:West Des Moines\, Iow
DESCRIPTION:Men's Volleyball: (Men's Volleyball) Webber International (FL) vs. OUAZ\, NAIA MVB Championship Pool D\, Final\, 0-3
UID:2z0mu06jp6na6fyv@prestosports.com
END:VEVENT
BEGIN:VEVENT
DTSTAMP:20240411T070644Z
DTSTART:20230413T000000Z
DURATION:PT3H
SUMMARY:(Men's Volleyball) Georgetown (Ky.) vs. Saint Xavier (Ill.)
TRANSP:TRANSPARENT
CATEGORIES:Men's Volleyball
LOCATION:NAIA National Tournament Pool
DESCRIPTION:Men's Volleyball: (Men's Volleyball) Georgetown (Ky.) vs. Saint Xavier (Ill.)\, Final\, 2-3
UID:wacu5qkfbj7fqk8i@prestosports.com
END:VEVENT
BEGIN:VEVENT
DTSTAMP:20240411T070644Z
DTSTART:20230413T150000Z
DURATION:PT3H
SUMMARY:(Men's Volleyball) Menlo (Calif.) vs. The Master's (Calif.)
TRANSP:TRANSPARENT
CATEGORIES:Men's Volleyball
LOCATION:West Des Moines\, Iow
DESCRIPTION:Men's Volleyball: (Men's Volleyball) Menlo (Calif.) vs. The Master's (Calif.)\, NAIA MVB Championship Pool C\, Final\, 0-3
UID:e9icwcbx83qmvsmp@prestosports.com
END:VEVENT
BEGIN:VEVENT
DTSTAMP:20240411T070644Z
DTSTART:20230413T180000Z
DURATION:PT3H
SUMMARY:(Men's Volleyball) Vanguard vs. Grand View
TRANSP:TRANSPARENT
CATEGORIES:Men's Volleyball
LOCATION:West Des Moines\, Iow
DESCRIPTION:Men's Volleyball: (Men's Volleyball) Vanguard vs. Grand View\, NAIA MVB Championship Pool B\, Final\, 3-1
UID:r91dr7c59h0l4avc@prestosports.com
END:VEVENT
BEGIN:VEVENT
DTSTAMP:20240411T070644Z
DTSTART:20230413T210000Z
DURATION:PT3H
SUMMARY:(Men's Volleyball) OUAZ vs. Park
TRANSP:TRANSPARENT
CATEGORIES:Men's Volleyball
LOCATION:West Des Moines\, Iowa
DESCRIPTION:Men's Volleyball: (Men's Volleyball) OUAZ vs. Park\, NAIA MVB Championship Pool D\, Final\, 2-3
UID:zqa3lhvtt2rxe4s8@prestosports.com
END:VEVENT
BEGIN:VEVENT
DTSTAMP:20240411T070644Z
DTSTART:20230414T000000Z
DURATION:PT3H
SUMMARY:(Men's Volleyball) Georgetown (Ky.) vs. Benedictine Mesa (AZ)
TRANSP:TRANSPARENT
CATEGORIES:Men's Volleyball
LOCATION:NAIA National Tournament Pool
DESCRIPTION:Men's Volleyball: (Men's Volleyball) Georgetown (Ky.) vs. Benedictine Mesa (AZ)\, Final\, 2-3
UID:9ep5sao92r4m5vnz@prestosports.com
END:VEVENT
END:VCALENDAR
