BEGIN:VCALENDAR
PRODID:-//www.prestosports.com//PrestoSports//EN
VERSION:2.0
CALSCALE:GREGORIAN
BEGIN:VEVENT
DTSTAMP:20240411T075228Z
DTSTART:20210505T200000Z
DURATION:PT3H
SUMMARY:(Women's Lacrosse) Life vs. Reinhardt (Ga.)
TRANSP:TRANSPARENT
CATEGORIES:Women's Lacrosse
LOCATION:Savannah\, Ga.\, Memorial Stadium 
DESCRIPTION:Women's Lacrosse: (Women's Lacrosse) Life vs. Reinhardt (Ga.)\, NAIA Quarterfinal\, Final\, 15-14
UID:mve4jawm00z595u8@prestosports.com
END:VEVENT
BEGIN:VEVENT
DTSTAMP:20240411T075228Z
DTSTART:20210507T170000Z
DURATION:PT3H
SUMMARY:(Women's Lacrosse) Cumberlands (Ky.) vs. Life
TRANSP:TRANSPARENT
CATEGORIES:Women's Lacrosse
LOCATION:Savannah\, Ga.\, Memorial Stadium
DESCRIPTION:Women's Lacrosse: (Women's Lacrosse) Cumberlands (Ky.) vs. Life\, NAIA Semifinal\, Final\, 10-11
UID:4nzyjs8v3t8m3ggg@prestosports.com
END:VEVENT
END:VCALENDAR
