BEGIN:VCALENDAR
PRODID:-//www.prestosports.com//PrestoSports//EN
VERSION:2.0
CALSCALE:GREGORIAN
BEGIN:VEVENT
DTSTAMP:20240411T075336Z
DTSTART:20210505T170000Z
DURATION:PT3H
SUMMARY:(Women's Lacrosse) Lawrence Tech (Mich.) vs. Benedictine (KS)
TRANSP:TRANSPARENT
CATEGORIES:Women's Lacrosse
LOCATION:Savannah\, Ga.\, Memorial Stadium
DESCRIPTION:Women's Lacrosse: (Women's Lacrosse) Lawrence Tech (Mich.) vs. Benedictine (KS)\, NAIA Quarterfinal\, Final\, 11-20
UID:ls5hapz2zs9ivvaw@prestosports.com
END:VEVENT
END:VCALENDAR
