BEGIN:VCALENDAR
PRODID:-//www.prestosports.com//PrestoSports//EN
VERSION:2.0
CALSCALE:GREGORIAN
BEGIN:VEVENT
DTSTAMP:20240411T075315Z
DTSTART:20210505T140000Z
DURATION:PT3H
SUMMARY:(Women's Lacrosse) Siena Heights (Mich.) vs. Keiser (Fla.)
TRANSP:TRANSPARENT
CATEGORIES:Women's Lacrosse
LOCATION:Savannah\, Ga.\, Memorial Stadium
DESCRIPTION:Women's Lacrosse: (Women's Lacrosse) Siena Heights (Mich.) vs. Keiser (Fla.)\, NAIA Quarterfinals\, Final\, 12-7
UID:ccwt8pgxjfucfjke@prestosports.com
END:VEVENT
BEGIN:VEVENT
DTSTAMP:20240411T075315Z
DTSTART:20210507T140000Z
DURATION:PT3H
SUMMARY:(Women's Lacrosse) Lawrence Tech (Mich.) vs. Keiser (Fla.)
TRANSP:TRANSPARENT
CATEGORIES:Women's Lacrosse
DESCRIPTION:Women's Lacrosse: (Women's Lacrosse) Lawrence Tech (Mich.) vs. Keiser (Fla.)\, NAIA Semifinal\, Final\, 13-8
UID:spydawlbhf8j88v0@prestosports.com
END:VEVENT
BEGIN:VEVENT
DTSTAMP:20240411T075315Z
DTSTART:20210508T180000Z
DURATION:PT3H
SUMMARY:(Women's Lacrosse) Cumberlands (Ky.) vs. Keiser (Fla.)
TRANSP:TRANSPARENT
CATEGORIES:Women's Lacrosse
DESCRIPTION:Women's Lacrosse: (Women's Lacrosse) Cumberlands (Ky.) vs. Keiser (Fla.)\, NAIA Championship\, Final\, 13-11
UID:nsnbr6rx5zs9gabp@prestosports.com
END:VEVENT
END:VCALENDAR
