BEGIN:VCALENDAR
PRODID:-//www.prestosports.com//PrestoSports//EN
VERSION:2.0
CALSCALE:GREGORIAN
BEGIN:VEVENT
DTSTAMP:20240411T075343Z
DTSTART:20210505T230000Z
DURATION:PT3H
SUMMARY:(Women's Lacrosse) SCAD Savannah (Ga.) vs. Cumberlands (Ky.)
TRANSP:TRANSPARENT
CATEGORIES:Women's Lacrosse
LOCATION:Savannah\, GA
DESCRIPTION:Women's Lacrosse: (Women's Lacrosse) SCAD Savannah (Ga.) vs. Cumberlands (Ky.)\, NAIA Quarterfinal \, Final\, 36-14
UID:ooz508lhripyw24t@prestosports.com
END:VEVENT
BEGIN:VEVENT
DTSTAMP:20240411T075343Z
DTSTART:20210507T170000Z
DURATION:PT3H
SUMMARY:(Women's Lacrosse) Cumberlands (Ky.) vs. Life
TRANSP:TRANSPARENT
CATEGORIES:Women's Lacrosse
LOCATION:Savannah\, Ga.\, Memorial Stadium
DESCRIPTION:Women's Lacrosse: (Women's Lacrosse) Cumberlands (Ky.) vs. Life\, NAIA Semifinal\, Final\, 11-10
UID:4nzyjs8v3t8m3ggg@prestosports.com
END:VEVENT
BEGIN:VEVENT
DTSTAMP:20240411T075343Z
DTSTART:20210508T180000Z
DURATION:PT3H
SUMMARY:(Women's Lacrosse) Cumberlands (Ky.) at Keiser (Fla.)
TRANSP:TRANSPARENT
CATEGORIES:Women's Lacrosse
DESCRIPTION:Women's Lacrosse: (Women's Lacrosse) Cumberlands (Ky.) at Keiser (Fla.)\, NAIA Championship\, Final\, 11-13
UID:nsnbr6rx5zs9gabp@prestosports.com
END:VEVENT
END:VCALENDAR
