BEGIN:VCALENDAR
PRODID:-//www.prestosports.com//PrestoSports//EN
VERSION:2.0
CALSCALE:GREGORIAN
BEGIN:VEVENT
DTSTAMP:20240411T075057Z
DTSTART:20220504T140000Z
DURATION:PT3H
SUMMARY:(Women's Lacrosse) Siena Heights (Mich.) vs. Lawrence Tech (Mich.)
TRANSP:TRANSPARENT
CATEGORIES:Women's Lacrosse
LOCATION:Southfield\, Mich.
DESCRIPTION:Women's Lacrosse: (Women's Lacrosse) Siena Heights (Mich.) vs. Lawrence Tech (Mich.)\, NAIA Quarterfinal\, Final\, 12-9
UID:4mknp7nzxs5wm8qg@prestosports.com
END:VEVENT
BEGIN:VEVENT
DTSTAMP:20240411T075057Z
DTSTART:20220505T200000Z
DURATION:PT3H
SUMMARY:(Women's Lacrosse) Reinhardt (Ga.) vs. Lawrence Tech (Mich.)
TRANSP:TRANSPARENT
CATEGORIES:Women's Lacrosse
LOCATION:Southfield\, MI 
DESCRIPTION:Women's Lacrosse: (Women's Lacrosse) Reinhardt (Ga.) vs. Lawrence Tech (Mich.)\, NAIA Semifinal\, Final\, 17-11
UID:8b57zhpn9ot02wzm@prestosports.com
END:VEVENT
BEGIN:VEVENT
DTSTAMP:20240411T075057Z
DTSTART:20220507T210000Z
DURATION:PT3H
SUMMARY:(Women's Lacrosse) Benedictine (KS) vs. Lawrence Tech (Mich.)
TRANSP:TRANSPARENT
CATEGORIES:Women's Lacrosse
LOCATION:Southfield\, MI
DESCRIPTION:Women's Lacrosse: (Women's Lacrosse) Benedictine (KS) vs. Lawrence Tech (Mich.)\, NAIA Championship\, Final\, 8-9
UID:upa0is9d6hm8rkoc@prestosports.com
END:VEVENT
END:VCALENDAR
