BEGIN:VCALENDAR
PRODID:-//www.prestosports.com//PrestoSports//EN
VERSION:2.0
CALSCALE:GREGORIAN
BEGIN:VEVENT
DTSTAMP:20240411T075201Z
DTSTART:20220504T230000Z
DURATION:PT3H
SUMMARY:(Women's Lacrosse) SCAD Savannah (Ga.) vs. Keiser (Fla.)
TRANSP:TRANSPARENT
CATEGORIES:Women's Lacrosse
LOCATION:Southfield\, MI
DESCRIPTION:Women's Lacrosse: (Women's Lacrosse) SCAD Savannah (Ga.) vs. Keiser (Fla.)\, NAIA Quarterfinals\, Final\, 11-13
UID:utb7ku8wm5bhdtm4@prestosports.com
END:VEVENT
END:VCALENDAR
