BEGIN:VCALENDAR
PRODID:-//www.prestosports.com//PrestoSports//EN
VERSION:2.0
CALSCALE:GREGORIAN
BEGIN:VEVENT
DTSTAMP:20240411T075205Z
DTSTART:20220504T200000Z
DURATION:PT3H
SUMMARY:(Women's Lacrosse) Benedictine (KS) vs. Cumberlands (Ky.)
TRANSP:TRANSPARENT
CATEGORIES:Women's Lacrosse
LOCATION:Southfield\, Mich.
DESCRIPTION:Women's Lacrosse: (Women's Lacrosse) Benedictine (KS) vs. Cumberlands (Ky.)\, NAIA Quarterfinals\, Final\, 11-14
UID:q3fmlotmas9dkh3l@prestosports.com
END:VEVENT
END:VCALENDAR
