BEGIN:VCALENDAR
PRODID:-//www.prestosports.com//PrestoSports//EN
VERSION:2.0
CALSCALE:GREGORIAN
BEGIN:VEVENT
DTSTAMP:20240411T075007Z
DTSTART:20220504T170000Z
DURATION:PT3H
SUMMARY:(Women's Lacrosse) Life vs. Reinhardt (Ga.)
TRANSP:TRANSPARENT
CATEGORIES:Women's Lacrosse
LOCATION:Southfield\, Mich.
DESCRIPTION:Women's Lacrosse: (Women's Lacrosse) Life vs. Reinhardt (Ga.)\, NAIA Quarterfinals\, Final\, 15-14
UID:5gxibmcgoa0c7wrh@prestosports.com
END:VEVENT
BEGIN:VEVENT
DTSTAMP:20240411T075007Z
DTSTART:20220505T200000Z
DURATION:PT3H
SUMMARY:(Women's Lacrosse) Reinhardt (Ga.) vs. Lawrence Tech (Mich.)
TRANSP:TRANSPARENT
CATEGORIES:Women's Lacrosse
LOCATION:Southfield\, MI 
DESCRIPTION:Women's Lacrosse: (Women's Lacrosse) Reinhardt (Ga.) vs. Lawrence Tech (Mich.)\, NAIA Semifinal\, Final\, 11-17
UID:8b57zhpn9ot02wzm@prestosports.com
END:VEVENT
END:VCALENDAR
