BEGIN:VCALENDAR
PRODID:-//www.prestosports.com//PrestoSports//EN
VERSION:2.0
CALSCALE:GREGORIAN
BEGIN:VEVENT
DTSTAMP:20240411T080223Z
DTSTART:20230503T140500Z
DURATION:PT3H
SUMMARY:(Women's Lacrosse) Benedictine (KS) vs. Keiser (Fla.)
TRANSP:TRANSPARENT
CATEGORIES:Women's Lacrosse
LOCATION:Southfield\, MI
DESCRIPTION:Women's Lacrosse: (Women's Lacrosse) Benedictine (KS) vs. Keiser (Fla.)\, NAIA WLAX Quarterfinals\, Final\, 16-15
UID:g0hmk4yyx0mx1973@prestosports.com
END:VEVENT
BEGIN:VEVENT
DTSTAMP:20240411T080223Z
DTSTART:20230504T210000Z
DURATION:PT3H
SUMMARY:(Women's Lacrosse) SCAD Savannah (Ga.) vs. Keiser (Fla.)
TRANSP:TRANSPARENT
CATEGORIES:Women's Lacrosse
LOCATION:Southfield\, Mich.
DESCRIPTION:Women's Lacrosse: (Women's Lacrosse) SCAD Savannah (Ga.) vs. Keiser (Fla.)\, NAIA WLAX Semifianls\, Final\, 6-20
UID:vus2c1fv1vsgvtzt@prestosports.com
END:VEVENT
END:VCALENDAR
