BEGIN:VCALENDAR
PRODID:-//www.prestosports.com//PrestoSports//EN
VERSION:2.0
CALSCALE:GREGORIAN
BEGIN:VEVENT
DTSTAMP:20240411T080107Z
DTSTART:20230503T200000Z
DURATION:PT3H
SUMMARY:(Women's Lacrosse) Life vs. Reinhardt (Ga.)
TRANSP:TRANSPARENT
CATEGORIES:Women's Lacrosse
LOCATION:Southfield\, Mich.
DESCRIPTION:Women's Lacrosse: (Women's Lacrosse) Life vs. Reinhardt (Ga.)\, NAIA WLAX Quarterfinals\, Final\, 9-11
UID:cfwe3kpfdx0afhm1@prestosports.com
END:VEVENT
END:VCALENDAR
