BEGIN:VCALENDAR
PRODID:-//www.prestosports.com//PrestoSports//EN
VERSION:2.0
CALSCALE:GREGORIAN
BEGIN:VEVENT
DTSTAMP:20240411T080224Z
DTSTART:20230503T230000Z
DURATION:PT3H
SUMMARY:(Women's Lacrosse) Missouri Baptist vs. Lawrence Tech (Mich.)
TRANSP:TRANSPARENT
CATEGORIES:Women's Lacrosse
DESCRIPTION:Women's Lacrosse: (Women's Lacrosse) Missouri Baptist vs. Lawrence Tech (Mich.)\, NAIA WLAX Quarterfinals\, Final\, 13-9
UID:ecezq4q5vwiwarci@prestosports.com
END:VEVENT
BEGIN:VEVENT
DTSTAMP:20240411T080224Z
DTSTART:20230505T000000Z
DURATION:PT3H
SUMMARY:(Women's Lacrosse) Life vs. Lawrence Tech (Mich.)
TRANSP:TRANSPARENT
CATEGORIES:Women's Lacrosse
DESCRIPTION:Women's Lacrosse: (Women's Lacrosse) Life vs. Lawrence Tech (Mich.)\, NAIA WLAX Semifinal\, Final\, 11-4
UID:x32o0r26d96l96n3@prestosports.com
END:VEVENT
BEGIN:VEVENT
DTSTAMP:20240411T080224Z
DTSTART:20230506T210000Z
DURATION:PT3H
SUMMARY:(Women's Lacrosse) SCAD Savannah (Ga.) vs. Lawrence Tech (Mich.)
TRANSP:TRANSPARENT
CATEGORIES:Women's Lacrosse
LOCATION:Southfield\, Mich.
DESCRIPTION:Women's Lacrosse: (Women's Lacrosse) SCAD Savannah (Ga.) vs. Lawrence Tech (Mich.)\, NAIA WLAX Championship\, Final - OT\, 16-15
UID:6q2qbcetgl7x6fqo@prestosports.com
END:VEVENT
END:VCALENDAR
