BEGIN:VCALENDAR
PRODID:-//www.prestosports.com//PrestoSports//EN
VERSION:2.0
CALSCALE:GREGORIAN
BEGIN:VEVENT
DTSTAMP:20240411T080104Z
DTSTART:20230503T230000Z
DURATION:PT3H
SUMMARY:(Women's Lacrosse) Missouri Baptist at Lawrence Tech (Mich.)
TRANSP:TRANSPARENT
CATEGORIES:Women's Lacrosse
DESCRIPTION:Women's Lacrosse: (Women's Lacrosse) Missouri Baptist at Lawrence Tech (Mich.)\, NAIA WLAX Quarterfinals\, Final\, 9-13
UID:ecezq4q5vwiwarci@prestosports.com
END:VEVENT
END:VCALENDAR
