BEGIN:VCALENDAR
PRODID:-//www.prestosports.com//PrestoSports//EN
VERSION:2.0
CALSCALE:GREGORIAN
BEGIN:VEVENT
DTSTAMP:20240411T080311Z
DTSTART:20230503T170000Z
DURATION:PT3H
SUMMARY:(Women's Lacrosse) SCAD Savannah (Ga.) vs. Cumberlands (Ky.)
TRANSP:TRANSPARENT
CATEGORIES:Women's Lacrosse
LOCATION:Southfield\, Mich.
DESCRIPTION:Women's Lacrosse: (Women's Lacrosse) SCAD Savannah (Ga.) vs. Cumberlands (Ky.)\, NAIA WLAX Quarterfinals\, Final\, 15-16
UID:83184h26bbesf5or@prestosports.com
END:VEVENT
END:VCALENDAR
