BEGIN:VCALENDAR
PRODID:-//www.prestosports.com//PrestoSports//EN
VERSION:2.0
CALSCALE:GREGORIAN
BEGIN:VEVENT
DTSTAMP:20240411T092643Z
DTSTART:20191206T150000Z
DURATION:PT3H
SUMMARY:(Women's Volleyball) Corban vs. Park
TRANSP:TRANSPARENT
CATEGORIES:Women's Volleyball
LOCATION:Sioux City\, IA
DESCRIPTION:Women's Volleyball: (Women's Volleyball) Corban vs. Park\, Final\, 3-0
UID:n70d7dp659jcj6es@prestosports.com
END:VEVENT
BEGIN:VEVENT
DTSTAMP:20240411T092643Z
DTSTART:20191207T000000Z
DURATION:PT3H
SUMMARY:(Women's Volleyball) Westmont (Calif.) vs. Park
TRANSP:TRANSPARENT
CATEGORIES:Women's Volleyball
LOCATION:Sioux City\, IA
DESCRIPTION:Women's Volleyball: (Women's Volleyball) Westmont (Calif.) vs. Park\, Court 1\, Final\, 2-3
UID:p3ncsxrytapojqq3@prestosports.com
END:VEVENT
END:VCALENDAR
