BEGIN:VCALENDAR
PRODID:-//www.prestosports.com//PrestoSports//EN
VERSION:2.0
CALSCALE:GREGORIAN
BEGIN:VEVENT
DTSTAMP:20240411T092823Z
DTSTART;VALUE=DATE:20191206
SUMMARY:(Women's Volleyball) Providence Christian at Southwestern Christian
TRANSP:TRANSPARENT
CATEGORIES:Women's Volleyball
DESCRIPTION:Women's Volleyball: (Women's Volleyball) Providence Christian at Southwestern Christian\, NCCAA National Championship - Pool Play\, Final\, 3-1
UID:0b640y42jldkmwm8@prestosports.com
END:VEVENT
BEGIN:VEVENT
DTSTAMP:20240411T092823Z
DTSTART;VALUE=DATE:20191206
SUMMARY:(Women's Volleyball) Judson vs. Providence Christian
TRANSP:TRANSPARENT
CATEGORIES:Women's Volleyball
DESCRIPTION:Women's Volleyball: (Women's Volleyball) Judson vs. Providence Christian\, Semifinal\, Final\, 0-3
UID:mzffvpqbhsczua7g@prestosports.com
END:VEVENT
BEGIN:VEVENT
DTSTAMP:20240411T092823Z
DTSTART;VALUE=DATE:20191207
SUMMARY:(Women's Volleyball) Providence Christian at Judson
TRANSP:TRANSPARENT
CATEGORIES:Women's Volleyball
DESCRIPTION:Women's Volleyball: (Women's Volleyball) Providence Christian at Judson\, NCCAA National Championship - Semifinals\, Final\, 0-3
UID:stg05k43qpsspzx3@prestosports.com
END:VEVENT
BEGIN:VEVENT
DTSTAMP:20240411T092823Z
DTSTART;VALUE=DATE:20191207
SUMMARY:(Women's Volleyball) Providence Christian at Southwestern Christian
TRANSP:TRANSPARENT
CATEGORIES:Women's Volleyball
DESCRIPTION:Women's Volleyball: (Women's Volleyball) Providence Christian at Southwestern Christian\, NCCAA National Championship - Pool Play\, Final\, 3-1
UID:vzb1x67n1ica1brq@prestosports.com
END:VEVENT
END:VCALENDAR
